BEGIN:VCALENDAR
VERSION:2.0
PRODID:-//ChamberMaster//Event Calendar 2.0//EN
METHOD:PUBLISH
X-PUBLISHED-TTL:P3D
REFRESH-INTERVAL:P3D
CALSCALE:GREGORIAN
BEGIN:VEVENT
DTSTART:20260425T140000Z
DTEND:20260425T170000Z
X-MICROSOFT-CDO-ALLDAYEVENT:FALSE
SUMMARY:2nd Annual Veteran Round-Up
DESCRIPTION:CALLING ALL VETERANS!\n\nWe invite you to join us for the 2nd Annual Veteran Resource Round-Up a  special event created just for YOU.\n\nSaturday\, April 25\, 2026\n\n9:00 AM   12:00 PM\n\nWar Memorial Civic Center\, DeRidder\n\nThis event is all about connecting\, supporting\, and empowering our veterans\, active duty service members\, and their families.\n\nMeet organizations dedicated to serving veterans\n\nAccess valuable local and state resources\n\nGet help with claims from LDVA representatives\n\nExplore health & wellness support\n\nOpen to Veterans\, Active Duty\, and their families\n\nProof of service required (Military/Veteran ID or DD-214)\n\nIf you've served\, we want to serve YOU. Come out\, get connected\, and take advantage of the resources available right here in our community.\n\nInterested in being a vendor or sponsor?\n\nevents@warmemorialcc.com\n\nTag a veteran\, share this post\, and help us spread the word!
X-ALT-DESC;FMTTYPE=text/html:<p data-end="104" data-start="67"><strong data-end="97" data-start="72">CALLING ALL VETERANS!</strong></p>\n\n<p data-end="220" data-start="106">We invite you to join us for the <strong>2nd</strong><strong data-end="182" data-start="139">&nbsp\;Annual Veteran Resource Round-Up&nbsp\;</strong>a&nbsp\; special event created just for YOU.</p>\n\n<p data-end="325" data-start="222"><strong data-end="253" data-start="225">Saturday\, April 25\, 2026</strong><br data-end="256" data-start="253" />\n<strong data-end="280" data-start="258">9:00 AM &ndash\; 12:00 PM</strong><br data-end="283" data-start="280" />\n<strong data-end="325" data-start="286">War Memorial Civic Center\, DeRidder</strong></p>\n\n<p data-end="456" data-start="327">This event is all about <strong data-end="393" data-start="351">connecting\, supporting\, and empowering</strong> our veterans\, active duty service members\, and their families.</p>\n\n<p data-end="649" data-start="458">Meet organizations dedicated to serving veterans<br data-end="512" data-start="509" />\nAccess valuable local and state resources<br data-end="559" data-start="556" />\nGet help with claims from LDVA representatives<br data-end="611" data-start="608" />\nExplore health &amp\; wellness support</p>\n\n<p data-end="777" data-start="651">Open to Veterans\, Active Duty\, and their families<br data-end="715" data-start="712" />\n<em data-end="777" data-start="718">Proof of service required (Military/Veteran ID or DD-214)</em></p>\n\n<p data-end="918" data-start="779">If you&rsquo\;ve served\, we want to serve YOU. Come out\, get connected\, and take advantage of the resources available right here in our community.</p>\n\n<p data-end="993" data-start="920">Interested in being a vendor or sponsor?<br data-end="966" data-start="963" />\n<a class="decorated-link cursor-pointer" data-end="993" data-start="969" rel="noopener">events@warmemorialcc.com<span aria-hidden="true" class="ms-0.5 inline-block align-middle leading-none"><svg aria-hidden="true" class="block h-[0.75em] w-[0.75em] stroke-current stroke-[0.75]" data-rtl-flip="" height="20" width="20" xmlns="http://www.w3.org/2000/svg"><use fill="currentColor" href="/cdn/assets/sprites-core-97566a9e.svg#304883"></use></svg></span></a></p>\n\n<p data-end="1058" data-is-last-node="" data-is-only-node="" data-start="995">Tag a veteran\, share this post\, and help us spread the word!</p>\n
LOCATION:War Memorial Civic Center\, DeRidder
UID:e.2676.1707
SEQUENCE:3
DTSTAMP:20260424T140125Z
URL:http://greaterbeauregard.smartcms.site/events/details/2nd-annual-veteran-round-up-1707
END:VEVENT

END:VCALENDAR
